BEGIN:VCALENDAR
VERSION:2.0
PRODID:-//Passy les Tours - Le Château - ECPv5.14.0.4//NONSGML v1.0//EN
CALSCALE:GREGORIAN
METHOD:PUBLISH
X-WR-CALNAME:Passy les Tours - Le Château
X-ORIGINAL-URL:https://passylestours.fr
X-WR-CALDESC:évènements pour Passy les Tours - Le Château
REFRESH-INTERVAL;VALUE=DURATION:PT1H
X-Robots-Tag:noindex
X-PUBLISHED-TTL:PT1H
BEGIN:VTIMEZONE
TZID:Europe/Paris
BEGIN:DAYLIGHT
TZOFFSETFROM:+0100
TZOFFSETTO:+0200
TZNAME:CEST
DTSTART:20160327T010000
END:DAYLIGHT
BEGIN:STANDARD
TZOFFSETFROM:+0200
TZOFFSETTO:+0100
TZNAME:CET
DTSTART:20161030T010000
END:STANDARD
END:VTIMEZONE
BEGIN:VEVENT
DTSTART;TZID=Europe/Paris:20160110T140000
DTEND;TZID=Europe/Paris:20160110T150000
DTSTAMP:20260422T204813
CREATED:20151223T105011Z
LAST-MODIFIED:20151223T110728Z
UID:1607-1452434400-1452438000@passylestours.fr
SUMMARY:Agissons pour le Château
DESCRIPTION:Chers amoureux du château\, \nNous vous donnons rendez-vous le 10 Janvier 2016 à 14h00 au pied du château afin de montrer ensemble que nous voulons faire bouger les choses ! \nTrop longtemps que nous attendons de pouvoir sauver le beau château de Passy-les-Tours ! \nJuste 1 heure de votre temps sera suffisante pour contribuer à ce grand événement. \nNous formerons\, tous ensemble\, un message de soutien Grandeur Nature adressé aux médias et à la commission des Monuments Historiques !\nSi vous le pouvez\, habillez vous de préférence en rouge avec un chapeau blanc\, aux couleurs du blason de Passy. \nNous vous invitons à être le plus nombreux possible et accompagnés de vos enfants\, famille\, amis\, chiens\, chats… \nPour en savoir plus et nous confirmer dès maintenant votre présence\, retrouvez nous la page “Association les Tours de Passy” ou sur www.passylestours.fr. \nPartagez au maximum\, et faites de cette journée un tournant pour la vie de notre beau château trop longtemps abandonné. \nBonnes fêtes et à très bientôt \n 
URL:https://passylestours.fr/event/agissons-pour-le-chateau/
LOCATION:Château de Passy-les-Tours\, route de Jean de Chevenon\, Varennes-les-Narcy\, 58400\, France
CATEGORIES:Activités Les Tours de Passy
ATTACH;FMTTYPE=image/jpeg:https://passylestours.fr/wp-content/uploads/2015/12/passy_sauvez_moi-scaled.jpg
ORGANIZER;CN="Les%20Tours%20de%20Passy":MAILTO:lestoursdepassy@gmail.com
END:VEVENT
END:VCALENDAR