BEGIN:VCALENDAR
VERSION:2.0
PRODID:-//Passy les Tours - Le Château - ECPv5.14.0.4//NONSGML v1.0//EN
CALSCALE:GREGORIAN
METHOD:PUBLISH
X-WR-CALNAME:Passy les Tours - Le Château
X-ORIGINAL-URL:https://passylestours.fr
X-WR-CALDESC:évènements pour Passy les Tours - Le Château
REFRESH-INTERVAL;VALUE=DURATION:PT1H
X-Robots-Tag:noindex
X-PUBLISHED-TTL:PT1H
BEGIN:VTIMEZONE
TZID:Europe/Paris
BEGIN:DAYLIGHT
TZOFFSETFROM:+0100
TZOFFSETTO:+0200
TZNAME:CEST
DTSTART:20160327T010000
END:DAYLIGHT
BEGIN:STANDARD
TZOFFSETFROM:+0200
TZOFFSETTO:+0100
TZNAME:CET
DTSTART:20161030T010000
END:STANDARD
END:VTIMEZONE
BEGIN:VEVENT
DTSTART;TZID=Europe/Paris:20160910T100000
DTEND;TZID=Europe/Paris:20160911T180000
DTSTAMP:20260422T093603
CREATED:20160110T221237Z
LAST-MODIFIED:20160826T162130Z
UID:1620-1473501600-1473616800@passylestours.fr
SUMMARY:VIIème Fête Médiévale
DESCRIPTION:Les 10 et 11 septembre 2016\, vous êtes invités à assister et participer à notre VIIème Fête Médiévale au pied du château de Passy-les-Tours…
URL:https://passylestours.fr/event/viieme-fete-medievale/
LOCATION:Château de Passy-les-Tours\, route de Jean de Chevenon\, Varennes-les-Narcy\, 58400\, France
CATEGORIES:Activités Les Tours de Passy,Fête Médiévale
ORGANIZER;CN="Les%20Tours%20de%20Passy":MAILTO:lestoursdepassy@gmail.com
END:VEVENT
END:VCALENDAR