BEGIN:VCALENDAR
VERSION:2.0
PRODID:-//Passy les Tours - Le Château - ECPv5.14.0.4//NONSGML v1.0//EN
CALSCALE:GREGORIAN
METHOD:PUBLISH
X-WR-CALNAME:Passy les Tours - Le Château
X-ORIGINAL-URL:https://passylestours.fr
X-WR-CALDESC:évènements pour Passy les Tours - Le Château
REFRESH-INTERVAL;VALUE=DURATION:PT1H
X-Robots-Tag:noindex
X-PUBLISHED-TTL:PT1H
BEGIN:VTIMEZONE
TZID:Europe/Paris
BEGIN:DAYLIGHT
TZOFFSETFROM:+0100
TZOFFSETTO:+0200
TZNAME:CEST
DTSTART:20180325T010000
END:DAYLIGHT
BEGIN:STANDARD
TZOFFSETFROM:+0200
TZOFFSETTO:+0100
TZNAME:CET
DTSTART:20181028T010000
END:STANDARD
END:VTIMEZONE
BEGIN:VEVENT
DTSTART;TZID=Europe/Paris:20180908T100000
DTEND;TZID=Europe/Paris:20180909T180000
DTSTAMP:20260420T224224
CREATED:20170914T160553Z
LAST-MODIFIED:20180920T103343Z
UID:2122-1536400800-1536516000@passylestours.fr
SUMMARY:IXèmes Médiévales
DESCRIPTION:
URL:https://passylestours.fr/event/ixemes-medievales/
LOCATION:Château de Passy-les-Tours\, route de Jean de Chevenon\, Varennes-les-Narcy\, 58400\, France
CATEGORIES:Fête Médiévale
ATTACH;FMTTYPE=image/jpeg:https://passylestours.fr/wp-content/uploads/2018/03/Affiche-2018-finale-2500.jpg
ORGANIZER;CN="Les%20Tours%20de%20Passy":MAILTO:lestoursdepassy@gmail.com
END:VEVENT
END:VCALENDAR