BEGIN:VCALENDAR
VERSION:2.0
PRODID:-//Passy les Tours - Le Château - ECPv5.14.0.4//NONSGML v1.0//EN
CALSCALE:GREGORIAN
METHOD:PUBLISH
X-WR-CALNAME:Passy les Tours - Le Château
X-ORIGINAL-URL:https://passylestours.fr
X-WR-CALDESC:évènements pour Passy les Tours - Le Château
REFRESH-INTERVAL;VALUE=DURATION:PT1H
X-Robots-Tag:noindex
X-PUBLISHED-TTL:PT1H
BEGIN:VTIMEZONE
TZID:Europe/Paris
BEGIN:DAYLIGHT
TZOFFSETFROM:+0100
TZOFFSETTO:+0200
TZNAME:CEST
DTSTART:20150329T010000
END:DAYLIGHT
BEGIN:STANDARD
TZOFFSETFROM:+0200
TZOFFSETTO:+0100
TZNAME:CET
DTSTART:20151025T010000
END:STANDARD
END:VTIMEZONE
BEGIN:VEVENT
DTSTART;TZID=Europe/Paris:20150307T160000
DTEND;TZID=Europe/Paris:20150307T180000
DTSTAMP:20260423T101021
CREATED:20150211T214921Z
LAST-MODIFIED:20150211T214921Z
UID:1368-1425744000-1425751200@passylestours.fr
SUMMARY:Comté de Nevers : Politique monétaire et circulation monétaire\, 954 – 1355
DESCRIPTION:Conférence \nEntrée libre \nEn partenariat avec la Société Nivernaise des Lettres\, Sciences et Arts et la Société Académique du Nivernais \npar M. Gilles Peigney\, avocat honoraire au barreau de Paris et Délégué pour la Nièvre de l’association Les Vieilles Maisons Françaises. Doctorant à l’Ecole Pratique des Hautes Etudes\, son projet de thèse en cours de préparation porte sur les émissions et la circulation monétaire dans le centre de la France au cours des Xe – XIIIe siècles (Berry\, Marche\, Bourbonnais\, Nivernais) et cherche à définir le lien existant entre autorités politiques et réalités économiques. Son Mémoire de Master II soutenu en 2014 portait sur le monnayage nivernais des comtes de Nevers – 954 – 1355 \n\nLe comté de Nevers a\, pendant plusieurs siècles\, joui d’une autonomie importante au sein du royaume de France. Presque totale initialement\, celle-ci s’est adaptée à la situation politique de ce dernier jusqu’à n’être plus qu’une apparence vidée de l’essentiel de sa substance. Rien ne serait en effet plus faux que de croire que l’autorité du comte de Nevers est restée la même au fil des siècles. Il n’est pas facile pour autant d’apprécier l’origine et l’évolution de cette autonomie\, les réalités politiques ne transparaissant pas facilement dans les actes qui nous sont parvenus. \nDu Xe au XIVe siècle\, cette autonomie s’est toutefois manifestée d’une façon particulièrement évidente par la frappe de monnaies par le comte de Nevers. Ces monnaies sont le reflet de la réalité du pouvoir du comte de Nevers mais aussi de son influence hors de son comté et traduisent un certain nombre de ses choix politiques par leurs types et par leur valeur. Elles sont donc un intéressant baromètre de la réalité de cette autonomie. \nCette présentation est bâtie sur les résultats d’une étude de plus de mille chartes comportant des mentions monétaires en Nivernais et dans les régions limitrophes\, d’une étude du plus grand nombre possible des trésors monétaires connus contenant des monnaies de Nevers ou trouvés en Nivernais\, de l’étude de plusieurs centaines de monnaies en provenance de 11 musées et collections particulières et pour la première fois de l’analyse par le CNRS de la composition métallique de plusieurs dizaines de monnaies des comtes de Nevers. \nElle essaie de cerner les sources et le degré d’autonomie effectif du comte au travers de sa politique monétaire et de la circulation de sa monnaie. Elle permet une certaine mise en perspective de la place du Nivernais dans le royaume de France depuis la fin des temps carolingiens jusqu’à l’affirmation incontestée de l’autorité royale au XIVe siècle.
URL:https://passylestours.fr/event/comte-de-nevers-politique-monetaire-et-circulation-monetaire-954-1355/
LOCATION:Médiathèque Jean Jaurès\, 17 rue Jean Jaurès\, Nevers\, 58000\, France
CATEGORIES:Conférences
ATTACH;FMTTYPE=image/jpeg:https://passylestours.fr/wp-content/uploads/2015/02/10988922_717408538372620_5374412888162751711_n.jpg
END:VEVENT
BEGIN:VEVENT
DTSTART;TZID=Europe/Paris:20150328T150000
DTEND;TZID=Europe/Paris:20150328T170000
DTSTAMP:20260423T101021
CREATED:20150127T155421Z
LAST-MODIFIED:20150304T223228Z
UID:1338-1427554800-1427562000@passylestours.fr
SUMMARY:Assemblée générale 2015
DESCRIPTION:Nous vous attendons nombreux pour notre assemblée générale 2015…\nNous aborderons les différents sujets traditionnels liés à l’activité de toute association\, mais nous discuterons également des sujets qui vous intéressent davantage\, comme le dossier de classement du château ou notre prochaine fête médiévale. \nCe sera également l’occasion de nous faire part de votre volonté d’être bénévole dans l’association si tel est le cas…
URL:https://passylestours.fr/event/assemblee-generale-2015/
LOCATION:Salle des Fêtes de Passy\, rue de Vergennes\, Varennes-les-Narcy\, 58400\, France
CATEGORIES:Assemblée générale
ORGANIZER;CN="Les%20Tours%20de%20Passy":MAILTO:lestoursdepassy@gmail.com
END:VEVENT
END:VCALENDAR