BEGIN:VCALENDAR
VERSION:2.0
PRODID:-//Passy les Tours - Le Château - ECPv5.14.0.4//NONSGML v1.0//EN
CALSCALE:GREGORIAN
METHOD:PUBLISH
X-WR-CALNAME:Passy les Tours - Le Château
X-ORIGINAL-URL:https://passylestours.fr
X-WR-CALDESC:évènements pour Passy les Tours - Le Château
REFRESH-INTERVAL;VALUE=DURATION:PT1H
X-Robots-Tag:noindex
X-PUBLISHED-TTL:PT1H
BEGIN:VTIMEZONE
TZID:Europe/Paris
BEGIN:DAYLIGHT
TZOFFSETFROM:+0100
TZOFFSETTO:+0200
TZNAME:CEST
DTSTART:20150329T010000
END:DAYLIGHT
BEGIN:STANDARD
TZOFFSETFROM:+0200
TZOFFSETTO:+0100
TZNAME:CET
DTSTART:20151025T010000
END:STANDARD
END:VTIMEZONE
BEGIN:VEVENT
DTSTART;VALUE=DATE:20150912
DTEND;VALUE=DATE:20150914
DTSTAMP:20260423T011351
CREATED:20150120T094430Z
LAST-MODIFIED:20150818T123850Z
UID:1334-1442016000-1442188799@passylestours.fr
SUMMARY:VIème Fête Médiévale
DESCRIPTION:Oyez ! Oyez ! \nDamoiselles et Damoiseaux\nGentes Dames et Nobles Seigneurs \nPermettez-nous de vous transporter six siècles en arrière\, en l’an de grâce 1415\, en plein cœur de la Guerre de Cent Ans. Nous sommes à la veille de la célèbre bataille d’Azincourt où notre valeureux seigneur de Passy\, Guillaume de Chevenon\, nous abandonnera pour rejoindre les cieux…\nEn l’honneur du départ de son tendre époux pour l’ost\, Héliette Girard\, dame de Passy\, vous convie à festoyer et banqueter au pied du castel ces 12 et 13 septembre. Parez-vous de vos plus riches atours et que l’olifant soit sonné ! \n Programme des festivités \nBanquet Médiéval \n\nDownload (PDF\, 2.82Mo)
URL:https://passylestours.fr/event/vieme-fete-medievale/
LOCATION:Château de Passy-les-Tours\, route de Jean de Chevenon\, Varennes-les-Narcy\, 58400\, France
CATEGORIES:Activités Les Tours de Passy,Fête Médiévale
ORGANIZER;CN="Les%20Tours%20de%20Passy":MAILTO:lestoursdepassy@gmail.com
END:VEVENT
END:VCALENDAR