BEGIN:VCALENDAR
VERSION:2.0
PRODID:-//Passy les Tours - Le Château - ECPv5.14.0.4//NONSGML v1.0//EN
CALSCALE:GREGORIAN
METHOD:PUBLISH
X-WR-CALNAME:Passy les Tours - Le Château
X-ORIGINAL-URL:https://passylestours.fr
X-WR-CALDESC:évènements pour Passy les Tours - Le Château
REFRESH-INTERVAL;VALUE=DURATION:PT1H
X-Robots-Tag:noindex
X-PUBLISHED-TTL:PT1H
BEGIN:VTIMEZONE
TZID:Europe/Paris
BEGIN:DAYLIGHT
TZOFFSETFROM:+0100
TZOFFSETTO:+0200
TZNAME:CEST
DTSTART:20170326T010000
END:DAYLIGHT
BEGIN:STANDARD
TZOFFSETFROM:+0200
TZOFFSETTO:+0100
TZNAME:CET
DTSTART:20171029T010000
END:STANDARD
END:VTIMEZONE
BEGIN:VEVENT
DTSTART;TZID=Europe/Paris:20170908T203000
DTEND;TZID=Europe/Paris:20170908T220000
DTSTAMP:20260421T145317
CREATED:20170808T124625Z
LAST-MODIFIED:20170811T105953Z
UID:2033-1504902600-1504908000@passylestours.fr
SUMMARY:Concert Polyphonique Origo
DESCRIPTION:
URL:https://passylestours.fr/event/concert-polyphonique/
LOCATION:Eglise Notre-Dame\, place Sainte-Croix\, La Charité-sur-Loire\, 58400\, France
ORGANIZER;CN="Les%20Tours%20de%20Passy":MAILTO:lestoursdepassy@gmail.com
END:VEVENT
BEGIN:VEVENT
DTSTART;TZID=Europe/Paris:20170909T100000
DTEND;TZID=Europe/Paris:20170910T180000
DTSTAMP:20260421T145317
CREATED:20160915T153338Z
LAST-MODIFIED:20170809T101137Z
UID:1907-1504951200-1505066400@passylestours.fr
SUMMARY:Médiévales des Tours de Passy - VIIIème
DESCRIPTION:Les 9 et 10 septembre 2017\, vous êtes invités à assister et participer aux Médiévales des Tours de Passy pour la VIIIème année consécutive au pied du château… \nN’hésitez pas à en parler à vos amis\, parents\, connaissances !\n Joie\, bonne humeur et émerveillement sont au rendez-vous pour les petits et les grands… \n  \n  \nProgrammation :
URL:https://passylestours.fr/event/viiieme-fete-medievale/
LOCATION:Château de Passy-les-Tours\, route de Jean de Chevenon\, Varennes-les-Narcy\, 58400\, France
CATEGORIES:Fête Médiévale
ORGANIZER;CN="Les%20Tours%20de%20Passy":MAILTO:lestoursdepassy@gmail.com
END:VEVENT
END:VCALENDAR